BEGIN:VCALENDAR
VERSION:2.0
PRODID:-//Trawler-Calendar-Tool 0.2
METHOD:PUBLISH
BEGIN:VTIMEZONE
TZID:Europe/Berlin
BEGIN:STANDARD
TZNAME:CET
DTSTART:20100101T010000
RRULE:FREQ=YEARLY;BYDAY=-1SU;BYMONTH=10
TZOFFSETFROM:+0200
TZOFFSETTO:+0100
END:STANDARD
BEGIN:DAYLIGHT
TZNAME:CEST
DTSTART:20100101T010000
RRULE:FREQ=YEARLY;BYDAY=-1SU;BYMONTH=3
TZOFFSETFROM:+0100
TZOFFSETTO:+0200
END:DAYLIGHT
END:VTIMEZONE
X-WR-TIMEZONE:Europe/Berlin
X-ORIGINAL-URL:https://www.spd-bochum-hofstede.de/termine/
BEGIN:VEVENT
DTSTART;TZID=Europe/Berlin:20261126T183000
DTEND;TZID=Europe/Berlin:20261126T203000
LOCATION:
SUMMARY:SPD Hofstede: offene Vorstandssitzung
DESCRIPTION:
X-ALT-DESC;FMTTYPE=text/plain:
PRIORITY:5
UID:wscms293089-hofstede-8ba17e2b00a3b1a1a5b781491410a39c
URL:https://www.spd-bochum-hofstede.de/calendar293089.ics
END:VEVENT
END:VCALENDAR